BEGIN:VCALENDAR
VERSION:2.0
PRODID:-//Site d&#039;Aspremont - ECPv6.15.11//NONSGML v1.0//EN
CALSCALE:GREGORIAN
METHOD:PUBLISH
X-ORIGINAL-URL:https://aspremont.fr
X-WR-CALDESC:Évènements pour Site d&#039;Aspremont
REFRESH-INTERVAL;VALUE=DURATION:PT1H
X-Robots-Tag:noindex
X-PUBLISHED-TTL:PT1H
BEGIN:VTIMEZONE
TZID:Europe/Paris
BEGIN:DAYLIGHT
TZOFFSETFROM:+0100
TZOFFSETTO:+0200
TZNAME:CEST
DTSTART:20250330T010000
END:DAYLIGHT
BEGIN:STANDARD
TZOFFSETFROM:+0200
TZOFFSETTO:+0100
TZNAME:CET
DTSTART:20251026T010000
END:STANDARD
BEGIN:DAYLIGHT
TZOFFSETFROM:+0100
TZOFFSETTO:+0200
TZNAME:CEST
DTSTART:20260329T010000
END:DAYLIGHT
BEGIN:STANDARD
TZOFFSETFROM:+0200
TZOFFSETTO:+0100
TZNAME:CET
DTSTART:20261025T010000
END:STANDARD
BEGIN:DAYLIGHT
TZOFFSETFROM:+0100
TZOFFSETTO:+0200
TZNAME:CEST
DTSTART:20270328T010000
END:DAYLIGHT
BEGIN:STANDARD
TZOFFSETFROM:+0200
TZOFFSETTO:+0100
TZNAME:CET
DTSTART:20271031T010000
END:STANDARD
END:VTIMEZONE
BEGIN:VEVENT
DTSTART;TZID=Europe/Paris:20260104T150000
DTEND;TZID=Europe/Paris:20260104T170000
DTSTAMP:20260421T120100
CREATED:20251215T103055Z
LAST-MODIFIED:20251215T103222Z
UID:9517-1767538800-1767546000@aspremont.fr
SUMMARY:Cérémonie des Vœux du Maire
DESCRIPTION:
URL:https://aspremont.fr/event/voeux-de-la-municipalite/
LOCATION:Jardins Caravadossi et Salle Honoré Trastour\, 115 avenue Caravadossi\, ASPREMONT\, 06790\, France
END:VEVENT
BEGIN:VEVENT
DTSTART;TZID=Europe/Paris:20260114T193000
DTEND;TZID=Europe/Paris:20260114T210000
DTSTAMP:20260421T120100
CREATED:20251215T102810Z
LAST-MODIFIED:20251215T102905Z
UID:9514-1768419000-1768424400@aspremont.fr
SUMMARY:Conférence
DESCRIPTION:Conférence animée par Évelyne Darque-Ceretti\n\nQui a découvert la présence de sucre dans la betterave fourragère? Qui a inventé le\nréfrigérateur ou la machine à laver ? Qui a écrit le premier programme informatique?\nQuelle est l’origine de l’argent distribué lors de l’attribution des prix Nobel chaque année?\nVoici quelques questions auxquelles nous pourrons répondre lors de la présentation qui\npourra évoquer divers hommes de science ou d’inventeurs\, certains bien connus du grand\npublic au moins de nom\, d’autres à la renommée plus confidentielle.\nA partir de ces petites «colles»\, on peut se poser une question plus générale. Comment\nl’humanité innove\, découvre\, invente ? Dure question à laquelle répondre tant est large\nl’éventail scientifique et technique à notre disposition. Que ce soit par chance\, curiosité\,\nopiniâtreté\, durant un long processus créatif teinté d’expériences réussies ou ratées ou par\nle hasard des rencontres et des interactions sociales\, les derniers siècles ont vu apparaître\nun flot continu de découvertes. Dans cette présentation\, nous choisirons de mettre en avant\nla vie et le parcours scientifique et technique de quelques savants\, médecins\, explorateurs\,\ningénieurs ayant apporté une contribution significative au monde tel que nous le\nconnaissons de nos jours. Le choix se portera à la fois sur des personnes bien connues\,\nmais aussi sur des personnalités plus méconnues qui restèrent longtemps dans l’ombre de\nl’histoire des découvertes. Le choix se fera aussi\, une fois la liste des «ingénieurs»\nprésentée\, en fonction de la demande des auditeurs à cette présentation.\nÉvelyne DARQUE-CERETTI est maître de recherche honoraire de l’École des Mines de\nParis. Elle est docteur de physique de la faculté d’Orsay et docteur d’État de l’Université\nde Besançon. Elle est spécialiste de la physique des surfaces (polymères\, métalliques). Elle\na dirigé le groupe «Surface et Tribologie» du Centre de Mise en Forme des Matériaux\n(MinesParis/CNRS)\, encadré plus de trente thèses\, écrit diverses livres dont trois avec des\ncollègues qui servent de base aux exposés.
URL:https://aspremont.fr/event/conference/
LOCATION:Médiathéque
END:VEVENT
BEGIN:VEVENT
DTSTART;TZID=Europe/Paris:20260116T200000
DTEND;TZID=Europe/Paris:20260116T220000
DTSTAMP:20260421T120100
CREATED:20260115T151029Z
LAST-MODIFIED:20260115T151029Z
UID:9526-1768593600-1768600800@aspremont.fr
SUMMARY:Soirée Cinema
DESCRIPTION:
URL:https://aspremont.fr/event/soiree-cinema/
LOCATION:salle Honoré Trastour\, 115 Avenue Caravadossi\, ASPREMONT\, 06790
END:VEVENT
BEGIN:VEVENT
DTSTART;TZID=Europe/Paris:20260122T190000
DTEND;TZID=Europe/Paris:20260122T210000
DTSTAMP:20260421T120100
CREATED:20260115T150707Z
LAST-MODIFIED:20260115T150707Z
UID:9532-1769108400-1769115600@aspremont.fr
SUMMARY:soirée Médiathéque
DESCRIPTION:
URL:https://aspremont.fr/event/soiree-mediatheque/
LOCATION:Médiathéque
END:VEVENT
END:VCALENDAR